BEGIN:VCALENDAR
VERSION:2.0
PRODID:-//L&#039;Effet Culture - ECPv6.15.20//NONSGML v1.0//EN
CALSCALE:GREGORIAN
METHOD:PUBLISH
X-WR-CALNAME:L&#039;Effet Culture
X-ORIGINAL-URL:https://www.leffetculture.com
X-WR-CALDESC:Évènements pour L&#039;Effet Culture
REFRESH-INTERVAL;VALUE=DURATION:PT1H
X-Robots-Tag:noindex
X-PUBLISHED-TTL:PT1H
BEGIN:VTIMEZONE
TZID:Europe/Paris
BEGIN:DAYLIGHT
TZOFFSETFROM:+0100
TZOFFSETTO:+0200
TZNAME:CEST
DTSTART:20250330T010000
END:DAYLIGHT
BEGIN:STANDARD
TZOFFSETFROM:+0200
TZOFFSETTO:+0100
TZNAME:CET
DTSTART:20251026T010000
END:STANDARD
BEGIN:DAYLIGHT
TZOFFSETFROM:+0100
TZOFFSETTO:+0200
TZNAME:CEST
DTSTART:20260329T010000
END:DAYLIGHT
BEGIN:STANDARD
TZOFFSETFROM:+0200
TZOFFSETTO:+0100
TZNAME:CET
DTSTART:20261025T010000
END:STANDARD
BEGIN:DAYLIGHT
TZOFFSETFROM:+0100
TZOFFSETTO:+0200
TZNAME:CEST
DTSTART:20270328T010000
END:DAYLIGHT
BEGIN:STANDARD
TZOFFSETFROM:+0200
TZOFFSETTO:+0100
TZNAME:CET
DTSTART:20271031T010000
END:STANDARD
END:VTIMEZONE
BEGIN:VEVENT
DTSTART;VALUE=DATE:20260421
DTEND;VALUE=DATE:20260422
DTSTAMP:20260421T130224
CREATED:20251112T134526Z
LAST-MODIFIED:20251120T231348Z
UID:8069-1776729600-1776815999@www.leffetculture.com
SUMMARY:LA VIE DE CHÂTEAU - Vaux-le-Vicomte\, la chute de l’écureuil par Tatiana MIGNOT
DESCRIPTION:Louis XIV en fut jaloux\, c’est dire la beauté de Vaux-le-Vicomte. Avec Le Vau pour l’architecture\, Le Nôtre pour les jardins\, Charles Le Brun pour la peinture\, le surintendant des finances Nicolas Fouquet s’est fait construire une demeure à son image. La majesté des décors\, leur richesse\, l’équilibre du bâti et son insertion dans le paysage en feront le modèle du château de Versailles. Aujourd’hui\, propriété de la famille Vogüé\, Vaux-le-Vicomte est le plus grand monument privé de France mais aussi un joyau incontournable pour les amoureux du xvième siècle.
URL:https://www.leffetculture.com/evenement/la-vie-de-chateau-vaux-le-vicomte-la-chute-de-lecureuil-par-tatiana-mignot/
CATEGORIES:visioconférence musée à domicile
ATTACH;FMTTYPE=image/jpeg:https://www.leffetculture.com/wp-content/uploads/2025/11/l-effet-culture-Le-chateau-de-Chantilly-Second-Louvre-de-France-par-Tatiana-MIGNOT.jpg
END:VEVENT
BEGIN:VEVENT
DTSTART;VALUE=DATE:20260421
DTEND;VALUE=DATE:20260425
DTSTAMP:20260421T130224
CREATED:20251128T080156Z
LAST-MODIFIED:20251128T080156Z
UID:8399-1776729600-1777075199@www.leffetculture.com
SUMMARY:Escapade à Bordeaux « les trois M » avec Frédéric BÉCHIR
DESCRIPTION:Partez pour Bordeaux à l’occasion d’une escapade dédiée aux « trois M »\, un parcours imaginé pour révéler les multiples facettes de la capitale girondine. Entre monuments emblématiques\, quartiers métamorphosés et trésors méconnus\, la ville dévoile un mélange unique d’élégance classique et d’effervescence contemporaine. Guidé par Frédéric BÉCHIR\, ce voyage vous emmène à la découverte de lieux emblématiques\, d’histoires singulières et de perspectives nouvelles sur une métropole en plein renouveau. Une immersion raffinée et inspirante au cœur du Sud-Ouest.
URL:https://www.leffetculture.com/evenement/escapade-a-bordeaux-les-trois-m-avec-frederic-bechir/
CATEGORIES:Escapade
ATTACH;FMTTYPE=image/jpeg:https://www.leffetculture.com/wp-content/uploads/2023/03/l-effet-culture-Sejour-a-Bordeaux.jpg
END:VEVENT
END:VCALENDAR