BEGIN:VCALENDAR
VERSION:2.0
PRODID:-//L&#039;Effet Culture - ECPv6.15.20//NONSGML v1.0//EN
CALSCALE:GREGORIAN
METHOD:PUBLISH
X-ORIGINAL-URL:https://www.leffetculture.com
X-WR-CALDESC:Évènements pour L&#039;Effet Culture
REFRESH-INTERVAL;VALUE=DURATION:PT1H
X-Robots-Tag:noindex
X-PUBLISHED-TTL:PT1H
BEGIN:VTIMEZONE
TZID:Europe/Paris
BEGIN:DAYLIGHT
TZOFFSETFROM:+0100
TZOFFSETTO:+0200
TZNAME:CEST
DTSTART:20230326T010000
END:DAYLIGHT
BEGIN:STANDARD
TZOFFSETFROM:+0200
TZOFFSETTO:+0100
TZNAME:CET
DTSTART:20231029T010000
END:STANDARD
BEGIN:DAYLIGHT
TZOFFSETFROM:+0100
TZOFFSETTO:+0200
TZNAME:CEST
DTSTART:20240331T010000
END:DAYLIGHT
BEGIN:STANDARD
TZOFFSETFROM:+0200
TZOFFSETTO:+0100
TZNAME:CET
DTSTART:20241027T010000
END:STANDARD
BEGIN:DAYLIGHT
TZOFFSETFROM:+0100
TZOFFSETTO:+0200
TZNAME:CEST
DTSTART:20250330T010000
END:DAYLIGHT
BEGIN:STANDARD
TZOFFSETFROM:+0200
TZOFFSETTO:+0100
TZNAME:CET
DTSTART:20251026T010000
END:STANDARD
END:VTIMEZONE
BEGIN:VEVENT
DTSTART;TZID=Europe/Paris:20240316T203000
DTEND;TZID=Europe/Paris:20240316T230000
DTSTAMP:20260423T150227
CREATED:20231114T133254Z
LAST-MODIFIED:20240301T151944Z
UID:3016-1710621000-1710630000@www.leffetculture.com
SUMMARY:Soirée Prévert à la Pension Thénardier à Montreuil
DESCRIPTION:Soirée Prévert à la Pension Thénardier à Montreuil avec Pierre Guini et une troupe de jeunes comédiens conduit par Rose RUYSSCHAERT
URL:https://www.leffetculture.com/evenement/soiree-prevert-a-la-pension-thenardier-a-montreuil/
CATEGORIES:Évenement
ATTACH;FMTTYPE=image/jpeg:https://www.leffetculture.com/wp-content/uploads/2023/11/l-effet-culture-evenement.jpg
END:VEVENT
END:VCALENDAR