BEGIN:VCALENDAR
VERSION:2.0
PRODID:-//L&#039;Effet Culture - ECPv6.15.20//NONSGML v1.0//EN
CALSCALE:GREGORIAN
METHOD:PUBLISH
X-WR-CALNAME:L&#039;Effet Culture
X-ORIGINAL-URL:https://www.leffetculture.com
X-WR-CALDESC:Évènements pour L&#039;Effet Culture
REFRESH-INTERVAL;VALUE=DURATION:PT1H
X-Robots-Tag:noindex
X-PUBLISHED-TTL:PT1H
BEGIN:VTIMEZONE
TZID:Europe/Paris
BEGIN:DAYLIGHT
TZOFFSETFROM:+0100
TZOFFSETTO:+0200
TZNAME:CEST
DTSTART:20250330T010000
END:DAYLIGHT
BEGIN:STANDARD
TZOFFSETFROM:+0200
TZOFFSETTO:+0100
TZNAME:CET
DTSTART:20251026T010000
END:STANDARD
BEGIN:DAYLIGHT
TZOFFSETFROM:+0100
TZOFFSETTO:+0200
TZNAME:CEST
DTSTART:20260329T010000
END:DAYLIGHT
BEGIN:STANDARD
TZOFFSETFROM:+0200
TZOFFSETTO:+0100
TZNAME:CET
DTSTART:20261025T010000
END:STANDARD
BEGIN:DAYLIGHT
TZOFFSETFROM:+0100
TZOFFSETTO:+0200
TZNAME:CEST
DTSTART:20270328T010000
END:DAYLIGHT
BEGIN:STANDARD
TZOFFSETFROM:+0200
TZOFFSETTO:+0100
TZNAME:CET
DTSTART:20271031T010000
END:STANDARD
END:VTIMEZONE
BEGIN:VEVENT
DTSTART;TZID=Europe/Paris:20260309T200000
DTEND;TZID=Europe/Paris:20260309T220000
DTSTAMP:20260425T135138
CREATED:20251030T223149Z
LAST-MODIFIED:20251030T223237Z
UID:7738-1773086400-1773093600@www.leffetculture.com
SUMMARY:La place des femmes en france\, en politique depuis un siècle par Frédéric MALLÉGOL
DESCRIPTION:Depuis un siècle\, l’accession à l’égalité et à la dignité politiques est un ardent et tortueux combat mené par les femmes en France. De Joséphine Pencalet première élue municipale dans les années 1920 au tiers des députées de la Nation en 2017 en passant par Odette Roux (première mairesse en 1945)\, Simone Veil\, Édith Cresson ou Élisabeth Borne\, saluons ces pionnières. En mars 2026\, les élections municipales imposeront des listes paritaires : viatique nécessaire pour accompagner la participation des femmes à la vie de la cité.
URL:https://www.leffetculture.com/evenement/la-place-des-femmes-en-france-en-politique-depuis-un-siecle-par-frederic-mallegol/
CATEGORIES:Visio-conférence
ATTACH;FMTTYPE=image/jpeg:https://www.leffetculture.com/wp-content/uploads/2025/10/l-effet-culture-La-place-des-femmes-en-france-en-politique-depuis-un-siecle-par-Frederic-MALLEGOL.jpg
END:VEVENT
END:VCALENDAR