BEGIN:VCALENDAR
VERSION:2.0
PRODID:-//L&#039;Effet Culture - ECPv6.15.20//NONSGML v1.0//EN
CALSCALE:GREGORIAN
METHOD:PUBLISH
X-ORIGINAL-URL:https://www.leffetculture.com
X-WR-CALDESC:Évènements pour L&#039;Effet Culture
REFRESH-INTERVAL;VALUE=DURATION:PT1H
X-Robots-Tag:noindex
X-PUBLISHED-TTL:PT1H
BEGIN:VTIMEZONE
TZID:Europe/Paris
BEGIN:DAYLIGHT
TZOFFSETFROM:+0100
TZOFFSETTO:+0200
TZNAME:CEST
DTSTART:20250330T010000
END:DAYLIGHT
BEGIN:STANDARD
TZOFFSETFROM:+0200
TZOFFSETTO:+0100
TZNAME:CET
DTSTART:20251026T010000
END:STANDARD
BEGIN:DAYLIGHT
TZOFFSETFROM:+0100
TZOFFSETTO:+0200
TZNAME:CEST
DTSTART:20260329T010000
END:DAYLIGHT
BEGIN:STANDARD
TZOFFSETFROM:+0200
TZOFFSETTO:+0100
TZNAME:CET
DTSTART:20261025T010000
END:STANDARD
BEGIN:DAYLIGHT
TZOFFSETFROM:+0100
TZOFFSETTO:+0200
TZNAME:CEST
DTSTART:20270328T010000
END:DAYLIGHT
BEGIN:STANDARD
TZOFFSETFROM:+0200
TZOFFSETTO:+0100
TZNAME:CET
DTSTART:20271031T010000
END:STANDARD
END:VTIMEZONE
BEGIN:VEVENT
DTSTART;TZID=Europe/Paris:20260608T200000
DTEND;TZID=Europe/Paris:20260608T220000
DTSTAMP:20260425T174308
CREATED:20251031T071652Z
LAST-MODIFIED:20251031T071652Z
UID:7748-1780948800-1780956000@www.leffetculture.com
SUMMARY:Chroniques d’après-guerre\, il y a 80 ans par Frédéric MALLÉGOL
DESCRIPTION:La Seconde partie des années 1940 est souvent méconnue\, écrasée par l’impact de la Seconde Guerre mondiale. Pourtant c’est une période d’une grande richesse qui ne se résume pas à compter les morts et les décombres. Elle est marquée par l’entrée dans la Guerre froide et la division de l’Europe. La nouvelle République en France est déstabilisée par la double opposition communiste et gaulliste. Enfin\, malgré une période de pénuries\, un monde moderne naît avec les immeubles de la reconstruction\, les peintures abstraites de Picasso ou les tubes jazzy d’Yves Montand.
URL:https://www.leffetculture.com/evenement/chroniques-dapres-guerre-il-y-a-80-ans-par-frederic-mallegol/
CATEGORIES:Visio-conférence
ATTACH;FMTTYPE=image/jpeg:https://www.leffetculture.com/wp-content/uploads/2025/10/l-effet-culture-Chroniques-dapres-guerre-il-y-a-80-ans-par-Frederic-MALLEGOL.jpg
END:VEVENT
END:VCALENDAR