BEGIN:VCALENDAR
VERSION:2.0
PRODID:-//L&#039;Effet Culture - ECPv6.15.20//NONSGML v1.0//EN
CALSCALE:GREGORIAN
METHOD:PUBLISH
X-ORIGINAL-URL:https://www.leffetculture.com
X-WR-CALDESC:Évènements pour L&#039;Effet Culture
REFRESH-INTERVAL;VALUE=DURATION:PT1H
X-Robots-Tag:noindex
X-PUBLISHED-TTL:PT1H
BEGIN:VTIMEZONE
TZID:Europe/Paris
BEGIN:DAYLIGHT
TZOFFSETFROM:+0100
TZOFFSETTO:+0200
TZNAME:CEST
DTSTART:20250330T010000
END:DAYLIGHT
BEGIN:STANDARD
TZOFFSETFROM:+0200
TZOFFSETTO:+0100
TZNAME:CET
DTSTART:20251026T010000
END:STANDARD
BEGIN:DAYLIGHT
TZOFFSETFROM:+0100
TZOFFSETTO:+0200
TZNAME:CEST
DTSTART:20260329T010000
END:DAYLIGHT
BEGIN:STANDARD
TZOFFSETFROM:+0200
TZOFFSETTO:+0100
TZNAME:CET
DTSTART:20261025T010000
END:STANDARD
BEGIN:DAYLIGHT
TZOFFSETFROM:+0100
TZOFFSETTO:+0200
TZNAME:CEST
DTSTART:20270328T010000
END:DAYLIGHT
BEGIN:STANDARD
TZOFFSETFROM:+0200
TZOFFSETTO:+0100
TZNAME:CET
DTSTART:20271031T010000
END:STANDARD
END:VTIMEZONE
BEGIN:VEVENT
DTSTART;TZID=Europe/Paris:20260907T200000
DTEND;TZID=Europe/Paris:20260907T220000
DTSTAMP:20260425T220920
CREATED:20251031T082239Z
LAST-MODIFIED:20251031T082239Z
UID:7760-1788811200-1788818400@www.leffetculture.com
SUMMARY:L’histoire de l’antisémitisme par Frédéric MALLÉGOL
DESCRIPTION:L’hostilité à l’égard des Juifs est très ancienne. Tentons d’analyser les causes profondes de cette animosité marquée par l’antijudaïsme chrétien. Nous prolongerons\, ensuite la réflexion sur les facteurs contemporains et les conséquences de l’antisionisme.
URL:https://www.leffetculture.com/evenement/lhistoire-de-lantisemitisme-par-frederic-mallegol/
CATEGORIES:Visio-conférence
ATTACH;FMTTYPE=image/jpeg:https://www.leffetculture.com/wp-content/uploads/2025/10/l-effet-culture-Lhistoire-de-lantisemitisme-par-Frederic-MALLEGOL.jpg
END:VEVENT
BEGIN:VEVENT
DTSTART;VALUE=DATE:20260915
DTEND;VALUE=DATE:20260916
DTSTAMP:20260425T220920
CREATED:20251113T082122Z
LAST-MODIFIED:20251127T205042Z
UID:8080-1789430400-1789516799@www.leffetculture.com
SUMMARY:ROME BAROQUE - Les leçons d’Annibal Carrache par Tatiana MIGNOT
DESCRIPTION:À Bologne\, dans le dernier quart du xvième siècle\, que se produit ce qu’on a coutume d’appeler la « réforme » des Carrache. Elle est le fait d’une famille de peintres\, les frères Annibale et Agostino et leur cousin Ludovico qui cherchent à refonder les principes esthétiques. Les Carrache rejettent l’artificialité de la peinture maniériste\, laissent peu de place à l’idéalisation et valorisent une certaine vérité avec des personnages aux anatomies crédibles. Puis c’est à Rome\, qu’annibale réalise un ensemble de fresques et de tableaux de chevalet imposant cette nouvelle manière qui ouvre la voie au grand art classique.
URL:https://www.leffetculture.com/evenement/rome-baroque-les-lecons-dannibal-carrache-par-tatiana-mignot/
CATEGORIES:Programme musée à domicile
ATTACH;FMTTYPE=image/jpeg:https://www.leffetculture.com/wp-content/uploads/2025/11/l-effet-culture-ROME-BAROQUE-par-Tatiana-MIGNOT.jpg
END:VEVENT
END:VCALENDAR