BEGIN:VCALENDAR
VERSION:2.0
PRODID:-//L&#039;Effet Culture - ECPv6.15.20//NONSGML v1.0//EN
CALSCALE:GREGORIAN
METHOD:PUBLISH
X-WR-CALNAME:L&#039;Effet Culture
X-ORIGINAL-URL:https://www.leffetculture.com
X-WR-CALDESC:Évènements pour L&#039;Effet Culture
REFRESH-INTERVAL;VALUE=DURATION:PT1H
X-Robots-Tag:noindex
X-PUBLISHED-TTL:PT1H
BEGIN:VTIMEZONE
TZID:Europe/Paris
BEGIN:DAYLIGHT
TZOFFSETFROM:+0100
TZOFFSETTO:+0200
TZNAME:CEST
DTSTART:20250330T010000
END:DAYLIGHT
BEGIN:STANDARD
TZOFFSETFROM:+0200
TZOFFSETTO:+0100
TZNAME:CET
DTSTART:20251026T010000
END:STANDARD
BEGIN:DAYLIGHT
TZOFFSETFROM:+0100
TZOFFSETTO:+0200
TZNAME:CEST
DTSTART:20260329T010000
END:DAYLIGHT
BEGIN:STANDARD
TZOFFSETFROM:+0200
TZOFFSETTO:+0100
TZNAME:CET
DTSTART:20261025T010000
END:STANDARD
BEGIN:DAYLIGHT
TZOFFSETFROM:+0100
TZOFFSETTO:+0200
TZNAME:CEST
DTSTART:20270328T010000
END:DAYLIGHT
BEGIN:STANDARD
TZOFFSETFROM:+0200
TZOFFSETTO:+0100
TZNAME:CET
DTSTART:20271031T010000
END:STANDARD
END:VTIMEZONE
BEGIN:VEVENT
DTSTART;TZID=Europe/Paris:20261012T200000
DTEND;TZID=Europe/Paris:20261012T220000
DTSTAMP:20260425T233318
CREATED:20251031T082909Z
LAST-MODIFIED:20251031T082909Z
UID:7763-1791835200-1791842400@www.leffetculture.com
SUMMARY:Souvenez vous il y a 50 ans l’année 1976 par Frédéric MALLÉGOL
DESCRIPTION:1976 est pour beaucoup une fameuse canicule particulièrement cuisante. C’est aussi un président Giscard d’Estaing en disgrâce accablé par la crise économique et la montée du chômage. Une situation internationale favorable à l’URSS de Brejnev face à des États-Unis en pleine campagne électorale. Enfin\, tout le monde se prépare à esquisser quelques pas de danse au son du disco alors qu’en France nous vivons la première cérémonie des César.
URL:https://www.leffetculture.com/evenement/souvenez-vous-il-y-a-50-ans-lannee-1976-par-frederic-mallegol/
CATEGORIES:Visio-conférence
ATTACH;FMTTYPE=image/jpeg:https://www.leffetculture.com/wp-content/uploads/2025/10/l-effet-culture-Souvenez-vous-il-y-a-50-ans-lannee-1976-par-Frederic-MALLEGOL.jpg
END:VEVENT
END:VCALENDAR