BEGIN:VCALENDAR
VERSION:2.0
PRODID:-//L&#039;Effet Culture - ECPv6.15.20//NONSGML v1.0//EN
CALSCALE:GREGORIAN
METHOD:PUBLISH
X-ORIGINAL-URL:https://www.leffetculture.com
X-WR-CALDESC:Évènements pour L&#039;Effet Culture
REFRESH-INTERVAL;VALUE=DURATION:PT1H
X-Robots-Tag:noindex
X-PUBLISHED-TTL:PT1H
BEGIN:VTIMEZONE
TZID:Europe/Paris
BEGIN:DAYLIGHT
TZOFFSETFROM:+0100
TZOFFSETTO:+0200
TZNAME:CEST
DTSTART:20250330T010000
END:DAYLIGHT
BEGIN:STANDARD
TZOFFSETFROM:+0200
TZOFFSETTO:+0100
TZNAME:CET
DTSTART:20251026T010000
END:STANDARD
BEGIN:DAYLIGHT
TZOFFSETFROM:+0100
TZOFFSETTO:+0200
TZNAME:CEST
DTSTART:20260329T010000
END:DAYLIGHT
BEGIN:STANDARD
TZOFFSETFROM:+0200
TZOFFSETTO:+0100
TZNAME:CET
DTSTART:20261025T010000
END:STANDARD
BEGIN:DAYLIGHT
TZOFFSETFROM:+0100
TZOFFSETTO:+0200
TZNAME:CEST
DTSTART:20270328T010000
END:DAYLIGHT
BEGIN:STANDARD
TZOFFSETFROM:+0200
TZOFFSETTO:+0100
TZNAME:CET
DTSTART:20271031T010000
END:STANDARD
END:VTIMEZONE
BEGIN:VEVENT
DTSTART;VALUE=DATE:20261214
DTEND;VALUE=DATE:20261215
DTSTAMP:20260423T105615
CREATED:20251112T100704Z
LAST-MODIFIED:20251117T225945Z
UID:8047-1797206400-1797292799@www.leffetculture.com
SUMMARY:Bruxelles 1900 par Géraldine BRETAULT
DESCRIPTION:L’exposition « Bruxelles 1900 » au Petit Palais propose de plonger dans l’atmosphère foisonnante de la capitale belge à la Belle Époque. Elle met en lumière l’essor de l’Art nouveau\, avec ses chefs-d’œuvre d’architecture\, de peinture\, de sculpture et d’arts décoratifs. Les visiteurs découvrent la richesse des salons artistiques bruxellois\, où se côtoyaient académisme\, symbolisme et avant-gardes. Mobilier\, affiches et objets design dialoguent avec des œuvres majeures pour restituer l’effervescence créative d’alors. L’exposition offre ainsi un voyage dans une ville en pleine modernité\, entre innovations esthétiques et raffinement de la vie urbaine.
URL:https://www.leffetculture.com/evenement/bruxelles-1900-par-geraldine-bretault/
CATEGORIES:visioconférence musée à domicile
ATTACH;FMTTYPE=image/jpeg:https://www.leffetculture.com/wp-content/uploads/2025/11/l-effet-culture-Bruxelles-1900-par-Geraldine-BRETAULT.jpg
END:VEVENT
END:VCALENDAR