BEGIN:VCALENDAR
VERSION:2.0
PRODID:-//L&#039;Effet Culture - ECPv6.15.20//NONSGML v1.0//EN
CALSCALE:GREGORIAN
METHOD:PUBLISH
X-ORIGINAL-URL:https://www.leffetculture.com
X-WR-CALDESC:Évènements pour L&#039;Effet Culture
REFRESH-INTERVAL;VALUE=DURATION:PT1H
X-Robots-Tag:noindex
X-PUBLISHED-TTL:PT1H
BEGIN:VTIMEZONE
TZID:Europe/Paris
BEGIN:DAYLIGHT
TZOFFSETFROM:+0100
TZOFFSETTO:+0200
TZNAME:CEST
DTSTART:20220327T010000
END:DAYLIGHT
BEGIN:STANDARD
TZOFFSETFROM:+0200
TZOFFSETTO:+0100
TZNAME:CET
DTSTART:20221030T010000
END:STANDARD
BEGIN:DAYLIGHT
TZOFFSETFROM:+0100
TZOFFSETTO:+0200
TZNAME:CEST
DTSTART:20230326T010000
END:DAYLIGHT
BEGIN:STANDARD
TZOFFSETFROM:+0200
TZOFFSETTO:+0100
TZNAME:CET
DTSTART:20231029T010000
END:STANDARD
BEGIN:DAYLIGHT
TZOFFSETFROM:+0100
TZOFFSETTO:+0200
TZNAME:CEST
DTSTART:20240331T010000
END:DAYLIGHT
BEGIN:STANDARD
TZOFFSETFROM:+0200
TZOFFSETTO:+0100
TZNAME:CET
DTSTART:20241027T010000
END:STANDARD
END:VTIMEZONE
BEGIN:VEVENT
DTSTART;VALUE=DATE:20230503
DTEND;VALUE=DATE:20230504
DTSTAMP:20260426T032644
CREATED:20230323T095602Z
LAST-MODIFIED:20230323T101519Z
UID:2314-1683072000-1683158399@www.leffetculture.com
SUMMARY:Visite guidée  à la Conciergerie avec Géraldine BRETAULT
DESCRIPTION:Paris \, Capitale de la gastronomie le 3 mai 2023 \nParis capitale de la gastronomie
URL:https://www.leffetculture.com/evenement/visite-guidee-a-la-conciergerie-avec-geraldine-bretault/
CATEGORIES:Visite
ATTACH;FMTTYPE=image/jpeg:https://www.leffetculture.com/wp-content/uploads/2023/03/l-effet-culture-Visite-guidee-a-la-Conciergerie-avec-Geraldine-BRETAULT.jpg
END:VEVENT
BEGIN:VEVENT
DTSTART;VALUE=DATE:20230506
DTEND;VALUE=DATE:20230507
DTSTAMP:20260426T032644
CREATED:20230302T104643Z
LAST-MODIFIED:20230302T104643Z
UID:1993-1683331200-1683417599@www.leffetculture.com
SUMMARY:Visite Patrimoine et Architecture : Palais de justice et l’ouest de l’île de la cité - Fréderic Dronne
DESCRIPTION:
URL:https://www.leffetculture.com/evenement/visite-patrimoine-et-architecture-palais-de-justice-et-louest-de-lile-de-la-cite-frederic-dronne/
CATEGORIES:Visite
ATTACH;FMTTYPE=image/jpeg:https://www.leffetculture.com/wp-content/uploads/2023/03/l-effet-culture-Visite-Patrimoine-et-Architecture-Palais-de-justice-et-louest-de-lile-de-la-cite-Frederic-Dronne.jpg
END:VEVENT
BEGIN:VEVENT
DTSTART;VALUE=DATE:20230524
DTEND;VALUE=DATE:20230525
DTSTAMP:20260426T032644
CREATED:20230302T104822Z
LAST-MODIFIED:20230302T104822Z
UID:1996-1684886400-1684972799@www.leffetculture.com
SUMMARY:Visite du cimetière du Père Lachaise – Pierre-Valery Archassal
DESCRIPTION:
URL:https://www.leffetculture.com/evenement/visite-du-cimetiere-du-pere-lachaise-pierre-valery-archassal/
CATEGORIES:Visite
ATTACH;FMTTYPE=image/jpeg:https://www.leffetculture.com/wp-content/uploads/2023/03/l-effet-culture-Visite-du-cimetiere-du-Pere-Lachaise-–-Pierre-Valery-Archassal.jpg
END:VEVENT
END:VCALENDAR