BEGIN:VCALENDAR
VERSION:2.0
PRODID:-//L&#039;Effet Culture - ECPv6.15.20//NONSGML v1.0//EN
CALSCALE:GREGORIAN
METHOD:PUBLISH
X-ORIGINAL-URL:https://www.leffetculture.com
X-WR-CALDESC:Évènements pour L&#039;Effet Culture
REFRESH-INTERVAL;VALUE=DURATION:PT1H
X-Robots-Tag:noindex
X-PUBLISHED-TTL:PT1H
BEGIN:VTIMEZONE
TZID:Europe/Paris
BEGIN:DAYLIGHT
TZOFFSETFROM:+0100
TZOFFSETTO:+0200
TZNAME:CEST
DTSTART:20220327T010000
END:DAYLIGHT
BEGIN:STANDARD
TZOFFSETFROM:+0200
TZOFFSETTO:+0100
TZNAME:CET
DTSTART:20221030T010000
END:STANDARD
BEGIN:DAYLIGHT
TZOFFSETFROM:+0100
TZOFFSETTO:+0200
TZNAME:CEST
DTSTART:20230326T010000
END:DAYLIGHT
BEGIN:STANDARD
TZOFFSETFROM:+0200
TZOFFSETTO:+0100
TZNAME:CET
DTSTART:20231029T010000
END:STANDARD
BEGIN:DAYLIGHT
TZOFFSETFROM:+0100
TZOFFSETTO:+0200
TZNAME:CEST
DTSTART:20240331T010000
END:DAYLIGHT
BEGIN:STANDARD
TZOFFSETFROM:+0200
TZOFFSETTO:+0100
TZNAME:CET
DTSTART:20241027T010000
END:STANDARD
END:VTIMEZONE
BEGIN:VEVENT
DTSTART;TZID=Europe/Paris:20230906T143000
DTEND;TZID=Europe/Paris:20230906T153000
DTSTAMP:20260425T213922
CREATED:20230829T131431Z
LAST-MODIFIED:20230830T071848Z
UID:2665-1694010600-1694014200@www.leffetculture.com
SUMMARY:Visite Guidée et commentée : La maison du projet du village des athlètes à Saint-Ouen
DESCRIPTION:Visite Guidée et commentée de 14h30 à 15h30 : La maison du projet du village des athlètes à Saint-Ouen.
URL:https://www.leffetculture.com/evenement/visite-guidee-et-commentee-la-maison-du-projet-du-village-des-athletes-a-saint-ouen/
CATEGORIES:Visite
ATTACH;FMTTYPE=image/jpeg:https://www.leffetculture.com/wp-content/uploads/2023/08/l-effet-culture-La-maison-du-projet-du-village-des-athletes-a-Saint-Ouen.jpg
END:VEVENT
BEGIN:VEVENT
DTSTART;VALUE=DATE:20230920
DTEND;VALUE=DATE:20230921
DTSTAMP:20260425T213922
CREATED:20230302T105322Z
LAST-MODIFIED:20230421T064526Z
UID:2008-1695168000-1695254399@www.leffetculture.com
SUMMARY:Visites des coulisses : Les Gobelins
DESCRIPTION:
URL:https://www.leffetculture.com/evenement/visites-des-coulisses-les-gobelins/
CATEGORIES:Visite
ATTACH;FMTTYPE=image/jpeg:https://www.leffetculture.com/wp-content/uploads/2023/03/l-effet-culture-Visites-des-coulisses-Les-Gobelins.jpg
END:VEVENT
BEGIN:VEVENT
DTSTART;VALUE=DATE:20230923
DTEND;VALUE=DATE:20230924
DTSTAMP:20260425T213922
CREATED:20230516T155540Z
LAST-MODIFIED:20230904T202240Z
UID:2496-1695427200-1695513599@www.leffetculture.com
SUMMARY:Journée à ROUBAIX
DESCRIPTION:Visite guidée de la Piscine de Roubaix (complet)\n\nSamedi 23 Septembre 2023
URL:https://www.leffetculture.com/evenement/journee-a-roubaix/
CATEGORIES:Visite
ATTACH;FMTTYPE=image/jpeg:https://www.leffetculture.com/wp-content/uploads/2023/05/Visite-a-Rouen.jpg
END:VEVENT
END:VCALENDAR