BEGIN:VCALENDAR
VERSION:2.0
PRODID:-//L&#039;Effet Culture - ECPv6.15.20//NONSGML v1.0//EN
CALSCALE:GREGORIAN
METHOD:PUBLISH
X-ORIGINAL-URL:https://www.leffetculture.com
X-WR-CALDESC:Évènements pour L&#039;Effet Culture
REFRESH-INTERVAL;VALUE=DURATION:PT1H
X-Robots-Tag:noindex
X-PUBLISHED-TTL:PT1H
BEGIN:VTIMEZONE
TZID:Europe/Paris
BEGIN:DAYLIGHT
TZOFFSETFROM:+0100
TZOFFSETTO:+0200
TZNAME:CEST
DTSTART:20220327T010000
END:DAYLIGHT
BEGIN:STANDARD
TZOFFSETFROM:+0200
TZOFFSETTO:+0100
TZNAME:CET
DTSTART:20221030T010000
END:STANDARD
BEGIN:DAYLIGHT
TZOFFSETFROM:+0100
TZOFFSETTO:+0200
TZNAME:CEST
DTSTART:20230326T010000
END:DAYLIGHT
BEGIN:STANDARD
TZOFFSETFROM:+0200
TZOFFSETTO:+0100
TZNAME:CET
DTSTART:20231029T010000
END:STANDARD
BEGIN:DAYLIGHT
TZOFFSETFROM:+0100
TZOFFSETTO:+0200
TZNAME:CEST
DTSTART:20240331T010000
END:DAYLIGHT
BEGIN:STANDARD
TZOFFSETFROM:+0200
TZOFFSETTO:+0100
TZNAME:CET
DTSTART:20241027T010000
END:STANDARD
END:VTIMEZONE
BEGIN:VEVENT
DTSTART;TZID=Europe/Paris:20231201T103000
DTEND;TZID=Europe/Paris:20231201T123000
DTSTAMP:20260425T172025
CREATED:20231004T084749Z
LAST-MODIFIED:20231004T084749Z
UID:2887-1701426600-1701433800@www.leffetculture.com
SUMMARY:Balade historique et insolite du centre ville de Meaux
DESCRIPTION:Balade historique et insolite du centre ville de Meaux avec Jan Synowiescki de 10h30 à 12h30
URL:https://www.leffetculture.com/evenement/balade-historique-et-insolite-du-centre-ville-de-meaux/
CATEGORIES:Balade,Visite
ATTACH;FMTTYPE=image/jpeg:https://www.leffetculture.com/wp-content/uploads/2023/10/l-effet-culture-Balade-historique-et-insolite-du-centre-ville-de-Meaux.jpg
END:VEVENT
BEGIN:VEVENT
DTSTART;VALUE=DATE:20231212
DTEND;VALUE=DATE:20231216
DTSTAMP:20260425T172025
CREATED:20230227T181947Z
LAST-MODIFIED:20230823T184212Z
UID:1702-1702339200-1702684799@www.leffetculture.com
SUMMARY:Les illuminations de Noël
DESCRIPTION:
URL:https://www.leffetculture.com/evenement/les-illuminations-de-noel/
CATEGORIES:Balade,Visite
ATTACH;FMTTYPE=image/jpeg:https://www.leffetculture.com/wp-content/uploads/2023/02/l-effet-culture-Les-illuminations-de-Noel.jpg
END:VEVENT
END:VCALENDAR