BEGIN:VCALENDAR
VERSION:2.0
PRODID:-//L&#039;Effet Culture - ECPv6.15.20//NONSGML v1.0//EN
CALSCALE:GREGORIAN
METHOD:PUBLISH
X-ORIGINAL-URL:https://www.leffetculture.com
X-WR-CALDESC:Évènements pour L&#039;Effet Culture
REFRESH-INTERVAL;VALUE=DURATION:PT1H
X-Robots-Tag:noindex
X-PUBLISHED-TTL:PT1H
BEGIN:VTIMEZONE
TZID:Europe/Paris
BEGIN:DAYLIGHT
TZOFFSETFROM:+0100
TZOFFSETTO:+0200
TZNAME:CEST
DTSTART:20230326T010000
END:DAYLIGHT
BEGIN:STANDARD
TZOFFSETFROM:+0200
TZOFFSETTO:+0100
TZNAME:CET
DTSTART:20231029T010000
END:STANDARD
BEGIN:DAYLIGHT
TZOFFSETFROM:+0100
TZOFFSETTO:+0200
TZNAME:CEST
DTSTART:20240331T010000
END:DAYLIGHT
BEGIN:STANDARD
TZOFFSETFROM:+0200
TZOFFSETTO:+0100
TZNAME:CET
DTSTART:20241027T010000
END:STANDARD
BEGIN:DAYLIGHT
TZOFFSETFROM:+0100
TZOFFSETTO:+0200
TZNAME:CEST
DTSTART:20250330T010000
END:DAYLIGHT
BEGIN:STANDARD
TZOFFSETFROM:+0200
TZOFFSETTO:+0100
TZNAME:CET
DTSTART:20251026T010000
END:STANDARD
END:VTIMEZONE
BEGIN:VEVENT
DTSTART;TZID=Europe/Paris:20240203T144000
DTEND;TZID=Europe/Paris:20240203T154000
DTSTAMP:20260425T143206
CREATED:20231122T072005Z
LAST-MODIFIED:20231122T072005Z
UID:3141-1706971200-1706974800@www.leffetculture.com
SUMMARY:Visite guidée de l'Assemblée Nationale - 14H40
DESCRIPTION:Visite guidée de l’Assemblée Nationale – 14H40
URL:https://www.leffetculture.com/evenement/visite-guidee-de-lassemblee-nationale-14h40/
CATEGORIES:Visite
ATTACH;FMTTYPE=image/jpeg:https://www.leffetculture.com/wp-content/uploads/2023/11/l-effet-culture-Visite-Visite-guidee-de-lAssemblee-Nationale-14H40.jpg
END:VEVENT
END:VCALENDAR