BEGIN:VCALENDAR
VERSION:2.0
PRODID:-//L&#039;Effet Culture - ECPv6.15.20//NONSGML v1.0//EN
CALSCALE:GREGORIAN
METHOD:PUBLISH
X-ORIGINAL-URL:https://www.leffetculture.com
X-WR-CALDESC:Évènements pour L&#039;Effet Culture
REFRESH-INTERVAL;VALUE=DURATION:PT1H
X-Robots-Tag:noindex
X-PUBLISHED-TTL:PT1H
BEGIN:VTIMEZONE
TZID:Europe/Paris
BEGIN:DAYLIGHT
TZOFFSETFROM:+0100
TZOFFSETTO:+0200
TZNAME:CEST
DTSTART:20230326T010000
END:DAYLIGHT
BEGIN:STANDARD
TZOFFSETFROM:+0200
TZOFFSETTO:+0100
TZNAME:CET
DTSTART:20231029T010000
END:STANDARD
BEGIN:DAYLIGHT
TZOFFSETFROM:+0100
TZOFFSETTO:+0200
TZNAME:CEST
DTSTART:20240331T010000
END:DAYLIGHT
BEGIN:STANDARD
TZOFFSETFROM:+0200
TZOFFSETTO:+0100
TZNAME:CET
DTSTART:20241027T010000
END:STANDARD
BEGIN:DAYLIGHT
TZOFFSETFROM:+0100
TZOFFSETTO:+0200
TZNAME:CEST
DTSTART:20250330T010000
END:DAYLIGHT
BEGIN:STANDARD
TZOFFSETFROM:+0200
TZOFFSETTO:+0100
TZNAME:CET
DTSTART:20251026T010000
END:STANDARD
END:VTIMEZONE
BEGIN:VEVENT
DTSTART;TZID=Europe/Paris:20240907T140000
DTEND;TZID=Europe/Paris:20240907T160000
DTSTAMP:20260425T044426
CREATED:20240712T132158Z
LAST-MODIFIED:20240712T134849Z
UID:4344-1725717600-1725724800@www.leffetculture.com
SUMMARY:Visite guidée du parc Montsouris avec Jan SYNOWIECKI
DESCRIPTION:Le 07 septembre 2024\n14h- 16h\nVisite guidée du parc Montsouris\nAvec Jan SYNOWIECKI
URL:https://www.leffetculture.com/evenement/visite-guidee-du-parc-montsouris-avec-jan-synowiecki/
CATEGORIES:Visite
ATTACH;FMTTYPE=image/jpeg:https://www.leffetculture.com/wp-content/uploads/2024/07/l-effet-culture-Visite-guidee-du-parc-Montsouris.jpg
END:VEVENT
BEGIN:VEVENT
DTSTART;TZID=Europe/Paris:20240912T110000
DTEND;TZID=Europe/Paris:20240912T130000
DTSTAMP:20260425T044426
CREATED:20240712T134106Z
LAST-MODIFIED:20240712T134106Z
UID:4347-1726138800-1726146000@www.leffetculture.com
SUMMARY:Musée Jacquemart-André avec Géraldine Bretault
DESCRIPTION:Le 12 septembre 2024\n11 heures\nMusée Jacquemart-André\nexposition : Les chefs d’oeuvre de la galerie Borghèse\nAvec Géraldine Bretault
URL:https://www.leffetculture.com/evenement/musee-jacquemart-andre-avec-geraldine-bretault/
CATEGORIES:Visite
ATTACH;FMTTYPE=image/jpeg:https://www.leffetculture.com/wp-content/uploads/2024/07/l-effet-culture-Musee-Jacquemart-Andre.jpg
END:VEVENT
BEGIN:VEVENT
DTSTART;VALUE=DATE:20240917
DTEND;VALUE=DATE:20240918
DTSTAMP:20260425T044426
CREATED:20240730T072750Z
LAST-MODIFIED:20240730T072811Z
UID:4541-1726531200-1726617599@www.leffetculture.com
SUMMARY:Visite privée du studio Harcourt
DESCRIPTION:17 septembre : visite privée du studio Harcourt
URL:https://www.leffetculture.com/evenement/visite-privee-du-studio-harcourt/
CATEGORIES:Visite
ATTACH;FMTTYPE=image/jpeg:https://www.leffetculture.com/wp-content/uploads/2024/07/l-effet-culture-Visite-privee-du-studio-Harcourt.jpg
END:VEVENT
BEGIN:VEVENT
DTSTART;VALUE=DATE:20240927
DTEND;VALUE=DATE:20240928
DTSTAMP:20260425T044426
CREATED:20231122T074611Z
LAST-MODIFIED:20240530T213317Z
UID:3153-1727395200-1727481599@www.leffetculture.com
SUMMARY:Frédéric Mallégol - Musée de la Libération
DESCRIPTION:Vendredi 27 septembre 2024\nFrédéric Mallégol – Musée de la Libération
URL:https://www.leffetculture.com/evenement/frederic-mallegol-musee-de-la-liberation/
CATEGORIES:Visite
ATTACH;FMTTYPE=image/jpeg:https://www.leffetculture.com/wp-content/uploads/2023/11/l-effet-culture-Frederic-Mallegol-Musee-de-la-Liberation.jpg
END:VEVENT
END:VCALENDAR