BEGIN:VCALENDAR
VERSION:2.0
PRODID:-//L&#039;Effet Culture - ECPv6.15.20//NONSGML v1.0//EN
CALSCALE:GREGORIAN
METHOD:PUBLISH
X-WR-CALNAME:L&#039;Effet Culture
X-ORIGINAL-URL:https://www.leffetculture.com
X-WR-CALDESC:Évènements pour L&#039;Effet Culture
REFRESH-INTERVAL;VALUE=DURATION:PT1H
X-Robots-Tag:noindex
X-PUBLISHED-TTL:PT1H
BEGIN:VTIMEZONE
TZID:Europe/Paris
BEGIN:DAYLIGHT
TZOFFSETFROM:+0100
TZOFFSETTO:+0200
TZNAME:CEST
DTSTART:20240331T010000
END:DAYLIGHT
BEGIN:STANDARD
TZOFFSETFROM:+0200
TZOFFSETTO:+0100
TZNAME:CET
DTSTART:20241027T010000
END:STANDARD
BEGIN:DAYLIGHT
TZOFFSETFROM:+0100
TZOFFSETTO:+0200
TZNAME:CEST
DTSTART:20250330T010000
END:DAYLIGHT
BEGIN:STANDARD
TZOFFSETFROM:+0200
TZOFFSETTO:+0100
TZNAME:CET
DTSTART:20251026T010000
END:STANDARD
BEGIN:DAYLIGHT
TZOFFSETFROM:+0100
TZOFFSETTO:+0200
TZNAME:CEST
DTSTART:20260329T010000
END:DAYLIGHT
BEGIN:STANDARD
TZOFFSETFROM:+0200
TZOFFSETTO:+0100
TZNAME:CET
DTSTART:20261025T010000
END:STANDARD
END:VTIMEZONE
BEGIN:VEVENT
DTSTART;TZID=Europe/Paris:20250205T170000
DTEND;TZID=Europe/Paris:20250205T220000
DTSTAMP:20260424T215403
CREATED:20241108T155332Z
LAST-MODIFIED:20241112T153838Z
UID:5185-1738774800-1738792800@www.leffetculture.com
SUMMARY:Visite de la ferme du Buisson d'hier à aujourd'hui suivi de la soirée d'ouverture du festival "Si loin Si proche"
DESCRIPTION:Mercredi 5 février \nVisite de la ferme du Buisson d’hier à aujourd’hui suivi de la soirée d’ouverture du festival Si loin Si proche
URL:https://www.leffetculture.com/evenement/visite-de-la-ferme-du-buisson-dhier-a-aujourdhui-suivi-de-la-soiree-douverture-du-festival-si-loin-si-proche/
CATEGORIES:Visite
ATTACH;FMTTYPE=image/jpeg:https://www.leffetculture.com/wp-content/uploads/2024/11/l-effet-culture-Visite-de-la-ferme-du-Buisson-dhier-a-aujourdhui-suivi-de-la-soiree-douverture-du-festival-Si-loin-Si-proche.jpg
END:VEVENT
BEGIN:VEVENT
DTSTART;TZID=Europe/Paris:20250208T100000
DTEND;TZID=Europe/Paris:20250208T120000
DTSTAMP:20260424T215403
CREATED:20241108T160449Z
LAST-MODIFIED:20241112T153931Z
UID:5188-1739008800-1739016000@www.leffetculture.com
SUMMARY:Visite de la Comédie française
DESCRIPTION:Samedi 8 février \nVisite de la Comédie française
URL:https://www.leffetculture.com/evenement/visite-de-la-comedie-francaise/
CATEGORIES:Visite
ATTACH;FMTTYPE=image/jpeg:https://www.leffetculture.com/wp-content/uploads/2024/11/l-effet-culture-Visite-de-la-Comedie-francaise.jpg
END:VEVENT
BEGIN:VEVENT
DTSTART;TZID=Europe/Paris:20250215T100000
DTEND;TZID=Europe/Paris:20250215T120000
DTSTAMP:20260424T215403
CREATED:20241112T154144Z
LAST-MODIFIED:20241112T154144Z
UID:5439-1739613600-1739620800@www.leffetculture.com
SUMMARY:Visite de la Comédie française
DESCRIPTION:Samedi 15 février \nVisite de la Comédie française
URL:https://www.leffetculture.com/evenement/visite-de-la-comedie-francaise-2/
CATEGORIES:Visite
ATTACH;FMTTYPE=image/jpeg:https://www.leffetculture.com/wp-content/uploads/2024/11/l-effet-culture-Visite-de-la-Comedie-francaise.jpg
END:VEVENT
BEGIN:VEVENT
DTSTART;VALUE=DATE:20250228
DTEND;VALUE=DATE:20250301
DTSTAMP:20260424T215403
CREATED:20241108T161036Z
LAST-MODIFIED:20241108T161036Z
UID:5196-1740700800-1740787199@www.leffetculture.com
SUMMARY:Visite du musée de la magie et de la bibliothèque Forney
DESCRIPTION:Vendredi 28 février \nVisite du musée de la magie et de la bibliothèque Forney \nAvec Céline NOULIN
URL:https://www.leffetculture.com/evenement/visite-du-musee-de-la-magie-et-de-la-bibliotheque-forney/
CATEGORIES:Visite
ATTACH;FMTTYPE=image/jpeg:https://www.leffetculture.com/wp-content/uploads/2024/11/l-effet-culture-Visite-du-musee-de-la-magie-et-de-la-bibliotheque-Forney.jpg
END:VEVENT
END:VCALENDAR