BEGIN:VCALENDAR
VERSION:2.0
PRODID:-//L&#039;Effet Culture - ECPv6.15.20//NONSGML v1.0//EN
CALSCALE:GREGORIAN
METHOD:PUBLISH
X-WR-CALNAME:L&#039;Effet Culture
X-ORIGINAL-URL:https://www.leffetculture.com
X-WR-CALDESC:Évènements pour L&#039;Effet Culture
REFRESH-INTERVAL;VALUE=DURATION:PT1H
X-Robots-Tag:noindex
X-PUBLISHED-TTL:PT1H
BEGIN:VTIMEZONE
TZID:Europe/Paris
BEGIN:DAYLIGHT
TZOFFSETFROM:+0100
TZOFFSETTO:+0200
TZNAME:CEST
DTSTART:20240331T010000
END:DAYLIGHT
BEGIN:STANDARD
TZOFFSETFROM:+0200
TZOFFSETTO:+0100
TZNAME:CET
DTSTART:20241027T010000
END:STANDARD
BEGIN:DAYLIGHT
TZOFFSETFROM:+0100
TZOFFSETTO:+0200
TZNAME:CEST
DTSTART:20250330T010000
END:DAYLIGHT
BEGIN:STANDARD
TZOFFSETFROM:+0200
TZOFFSETTO:+0100
TZNAME:CET
DTSTART:20251026T010000
END:STANDARD
BEGIN:DAYLIGHT
TZOFFSETFROM:+0100
TZOFFSETTO:+0200
TZNAME:CEST
DTSTART:20260329T010000
END:DAYLIGHT
BEGIN:STANDARD
TZOFFSETFROM:+0200
TZOFFSETTO:+0100
TZNAME:CET
DTSTART:20261025T010000
END:STANDARD
END:VTIMEZONE
BEGIN:VEVENT
DTSTART;TZID=Europe/Paris:20250505T140000
DTEND;TZID=Europe/Paris:20250505T160000
DTSTAMP:20260424T174930
CREATED:20241108T211939Z
LAST-MODIFIED:20241112T154944Z
UID:5236-1746453600-1746460800@www.leffetculture.com
SUMMARY:Visite du musée Bansky
DESCRIPTION:Lundi 5 mai \nVisite du musée Bansky
URL:https://www.leffetculture.com/evenement/visite-du-musee-bansky/
CATEGORIES:Visite
ATTACH;FMTTYPE=image/jpeg:https://www.leffetculture.com/wp-content/uploads/2024/11/l-effet-culture-Visite-du-musee-Bansky.jpg
END:VEVENT
BEGIN:VEVENT
DTSTART;TZID=Europe/Paris:20250507T140000
DTEND;TZID=Europe/Paris:20250507T160000
DTSTAMP:20260424T174930
CREATED:20241108T212145Z
LAST-MODIFIED:20241112T155033Z
UID:5239-1746626400-1746633600@www.leffetculture.com
SUMMARY:Visite du musée des illusions «paradox illusion» 
DESCRIPTION:Mercredi 7 mai \nVisite du musée des illusions «paradox illusion» \nAvec Céline NOULIN
URL:https://www.leffetculture.com/evenement/visite-du-musee-des-illusions-paradox-illusion/
CATEGORIES:Visite
ATTACH;FMTTYPE=image/jpeg:https://www.leffetculture.com/wp-content/uploads/2024/11/l-effet-culture-Visite-du-musee-des-illusions-paradox-illusion.jpg
END:VEVENT
BEGIN:VEVENT
DTSTART;TZID=Europe/Paris:20250511T110000
DTEND;TZID=Europe/Paris:20250511T130000
DTSTAMP:20260424T174930
CREATED:20241106T081853Z
LAST-MODIFIED:20250315T205419Z
UID:5065-1746961200-1746968400@www.leffetculture.com
SUMMARY:«Suzanne Valadon» au Centre Pompidou avec Catherine LASCAULT
DESCRIPTION:Dimanche 11 mai 2025\n«Suzanne Valadon» au Centre Pompidou\nLes dimanches à Pompidou avec Catherine LASCAULT
URL:https://www.leffetculture.com/evenement/suzanne-valadon-au-centre-pompidou-avec-catherine-lascault/
CATEGORIES:Visite
ATTACH;FMTTYPE=image/jpeg:https://www.leffetculture.com/wp-content/uploads/2024/11/l-effet-culture-Suzanne-Valadon-au-Centre-Pompidou-avec-Geraldine-BRETAULT.jpg
END:VEVENT
END:VCALENDAR