BEGIN:VCALENDAR
VERSION:2.0
PRODID:-//L&#039;Effet Culture - ECPv6.15.20//NONSGML v1.0//EN
CALSCALE:GREGORIAN
METHOD:PUBLISH
X-WR-CALNAME:L&#039;Effet Culture
X-ORIGINAL-URL:https://www.leffetculture.com
X-WR-CALDESC:Évènements pour L&#039;Effet Culture
REFRESH-INTERVAL;VALUE=DURATION:PT1H
X-Robots-Tag:noindex
X-PUBLISHED-TTL:PT1H
BEGIN:VTIMEZONE
TZID:Europe/Paris
BEGIN:DAYLIGHT
TZOFFSETFROM:+0100
TZOFFSETTO:+0200
TZNAME:CEST
DTSTART:20240331T010000
END:DAYLIGHT
BEGIN:STANDARD
TZOFFSETFROM:+0200
TZOFFSETTO:+0100
TZNAME:CET
DTSTART:20241027T010000
END:STANDARD
BEGIN:DAYLIGHT
TZOFFSETFROM:+0100
TZOFFSETTO:+0200
TZNAME:CEST
DTSTART:20250330T010000
END:DAYLIGHT
BEGIN:STANDARD
TZOFFSETFROM:+0200
TZOFFSETTO:+0100
TZNAME:CET
DTSTART:20251026T010000
END:STANDARD
BEGIN:DAYLIGHT
TZOFFSETFROM:+0100
TZOFFSETTO:+0200
TZNAME:CEST
DTSTART:20260329T010000
END:DAYLIGHT
BEGIN:STANDARD
TZOFFSETFROM:+0200
TZOFFSETTO:+0100
TZNAME:CET
DTSTART:20261025T010000
END:STANDARD
END:VTIMEZONE
BEGIN:VEVENT
DTSTART;TZID=Europe/Paris:20250717T140000
DTEND;TZID=Europe/Paris:20250717T160000
DTSTAMP:20260424T145709
CREATED:20241108T164431Z
LAST-MODIFIED:20241112T155617Z
UID:5211-1752760800-1752768000@www.leffetculture.com
SUMMARY:Visite de l'Hôtel National des Invalides - Musée de l'armée
DESCRIPTION:Jeudi 17 juillet \nVisite de l’ Hôtel National des Invalides – Musée de l’armée
URL:https://www.leffetculture.com/evenement/visite-de-lhotel-national-des-invalides-musee-de-larmee/
CATEGORIES:Visite
ATTACH;FMTTYPE=image/jpeg:https://www.leffetculture.com/wp-content/uploads/2024/11/l-effet-culture-visite-de-l-Hotel-National-des-Invalides-Musee-de-larmee.jpg
END:VEVENT
BEGIN:VEVENT
DTSTART;TZID=Europe/Paris:20250717T140000
DTEND;TZID=Europe/Paris:20250717T160000
DTSTAMP:20260424T145709
CREATED:20250221T131525Z
LAST-MODIFIED:20250221T131525Z
UID:5929-1752760800-1752768000@www.leffetculture.com
SUMMARY:Exposition CHAOSMOS au Social club de la Maif à Paris
DESCRIPTION:Viste guidée  de l’exposition CHAOSMOS\n17 juillet 2025 à 14H00\nSocial club de la Maif à Paris
URL:https://www.leffetculture.com/evenement/exposition-chaosmos-au-social-club-de-la-maif-a-paris/
CATEGORIES:Exposition,Visite
ATTACH;FMTTYPE=image/jpeg:https://www.leffetculture.com/wp-content/uploads/2025/02/l-effet-culture-Exposition-CHAOSMOS-au-Social-club-de-la-Maif-a-Paris.jpg
END:VEVENT
BEGIN:VEVENT
DTSTART;TZID=Europe/Paris:20250730T103000
DTEND;TZID=Europe/Paris:20250730T123000
DTSTAMP:20260424T145709
CREATED:20250725T224410Z
LAST-MODIFIED:20250725T224410Z
UID:7241-1753871400-1753878600@www.leffetculture.com
SUMMARY:Visite guidée des jardins de la Villette
DESCRIPTION:30 juillet 2025 : Visite guidée des jardins de la Villette  10H30
URL:https://www.leffetculture.com/evenement/visite-guidee-des-jardins-de-la-villette/
CATEGORIES:Visite
ATTACH;FMTTYPE=image/jpeg:https://www.leffetculture.com/wp-content/uploads/2025/07/Effet-culture-Visite-guidee-des-jardins-de-la-Villette.jpg
END:VEVENT
END:VCALENDAR