BEGIN:VCALENDAR
VERSION:2.0
PRODID:-//L&#039;Effet Culture - ECPv6.15.20//NONSGML v1.0//EN
CALSCALE:GREGORIAN
METHOD:PUBLISH
X-ORIGINAL-URL:https://www.leffetculture.com
X-WR-CALDESC:Évènements pour L&#039;Effet Culture
REFRESH-INTERVAL;VALUE=DURATION:PT1H
X-Robots-Tag:noindex
X-PUBLISHED-TTL:PT1H
BEGIN:VTIMEZONE
TZID:Europe/Paris
BEGIN:DAYLIGHT
TZOFFSETFROM:+0100
TZOFFSETTO:+0200
TZNAME:CEST
DTSTART:20240331T010000
END:DAYLIGHT
BEGIN:STANDARD
TZOFFSETFROM:+0200
TZOFFSETTO:+0100
TZNAME:CET
DTSTART:20241027T010000
END:STANDARD
BEGIN:DAYLIGHT
TZOFFSETFROM:+0100
TZOFFSETTO:+0200
TZNAME:CEST
DTSTART:20250330T010000
END:DAYLIGHT
BEGIN:STANDARD
TZOFFSETFROM:+0200
TZOFFSETTO:+0100
TZNAME:CET
DTSTART:20251026T010000
END:STANDARD
BEGIN:DAYLIGHT
TZOFFSETFROM:+0100
TZOFFSETTO:+0200
TZNAME:CEST
DTSTART:20260329T010000
END:DAYLIGHT
BEGIN:STANDARD
TZOFFSETFROM:+0200
TZOFFSETTO:+0100
TZNAME:CET
DTSTART:20261025T010000
END:STANDARD
END:VTIMEZONE
BEGIN:VEVENT
DTSTART;TZID=Europe/Paris:20251008T140000
DTEND;TZID=Europe/Paris:20251008T160000
DTSTAMP:20260422T110609
CREATED:20250924T122238Z
LAST-MODIFIED:20250924T122238Z
UID:7622-1759932000-1759939200@www.leffetculture.com
SUMMARY:Visite guidée des Frigos\, résidences d'artistes\, Paris
DESCRIPTION:8 octobre à 14 h 00 \nVisite guidée des Frigos\, résidences d’artistes\, Paris
URL:https://www.leffetculture.com/evenement/visite-guidee-des-frigos-residences-dartistes-paris/
CATEGORIES:Visite
ATTACH;FMTTYPE=image/jpeg:https://www.leffetculture.com/wp-content/uploads/2025/09/l-effet-culture-Visite-guidee-des-Frigos-residences-dartistes-Paris.jpg
END:VEVENT
BEGIN:VEVENT
DTSTART;TZID=Europe/Paris:20251009T150000
DTEND;TZID=Europe/Paris:20251009T160000
DTSTAMP:20260422T110609
CREATED:20251022T071701Z
LAST-MODIFIED:20251022T071749Z
UID:7716-1760022000-1760025600@www.leffetculture.com
SUMMARY:Visite guidée de la cathédrale Notre Dame de Paris
DESCRIPTION:Jeudi 9 octobre \nVisite guidée  de la cathédrale Notre Dame de Paris à 15h
URL:https://www.leffetculture.com/evenement/visite-guidee-de-la-cathedrale-notre-dame-de-paris/
CATEGORIES:Visite
ATTACH;FMTTYPE=image/jpeg:https://www.leffetculture.com/wp-content/uploads/2025/10/Effet-culture-Visite-guidee-de-la-cathedrale-Notre-Dame-de-Paris.jpg
END:VEVENT
END:VCALENDAR